BEGIN:VCALENDAR
VERSION:2.0
PRODID:-//LeRoy Township - ECPv6.15.20//NONSGML v1.0//EN
CALSCALE:GREGORIAN
METHOD:PUBLISH
X-ORIGINAL-URL:https://leroytwposceola.org
X-WR-CALDESC:Events for LeRoy Township
REFRESH-INTERVAL;VALUE=DURATION:PT1H
X-Robots-Tag:noindex
X-PUBLISHED-TTL:PT1H
BEGIN:VTIMEZONE
TZID:UTC
BEGIN:STANDARD
TZOFFSETFROM:+0000
TZOFFSETTO:+0000
TZNAME:UTC
DTSTART:20260101T000000
END:STANDARD
END:VTIMEZONE
BEGIN:VEVENT
DTSTART;TZID=UTC:20270202T190000
DTEND;TZID=UTC:20270202T193000
DTSTAMP:20260422T175220
CREATED:20230310T172109Z
LAST-MODIFIED:20260408T011942Z
UID:2366-1801594800-1801596600@leroytwposceola.org
SUMMARY:FEBRUARY 2027 BOARD MEETING
DESCRIPTION:Our board meets on the 1st Tuesday of every month. Any cancellations or rescheduling will be posted on our website as soon as the changes are agreed upon by our board members. \nTo view the archive of our previous meeting minutes\, click HERE. \nTo contact our Township Board\, click HERE. \nMEETING ADJOURNMENT TIMES MAY VARY. 
URL:https://leroytwposceola.org/event/february-2027-board-meeting/
LOCATION:LeRoy Township Hall\, 101 Bevins Street\, LeRoy\, MI\, 49655\, United States
END:VEVENT
BEGIN:VEVENT
DTSTART;TZID=UTC:20270302T190000
DTEND;TZID=UTC:20270302T193000
DTSTAMP:20260422T175220
CREATED:20230310T172201Z
LAST-MODIFIED:20260408T012017Z
UID:2369-1804014000-1804015800@leroytwposceola.org
SUMMARY:MARCH 2027 BOARD MEETING
DESCRIPTION:Our board meets on the 1st Tuesday of every month. Any cancellations or rescheduling will be posted on our website as soon as the changes are agreed upon by our board members. \nTo view the archive of our previous meeting minutes\, click HERE. \nTo contact our Township Board\, click HERE. \nMEETING ADJOURNMENT TIMES MAY VARY. 
URL:https://leroytwposceola.org/event/march-2027-board-meeting/
LOCATION:LeRoy Township Hall\, 101 Bevins Street\, LeRoy\, MI\, 49655\, United States
END:VEVENT
END:VCALENDAR